BEGIN:VCALENDAR
VERSION:2.0
PRODID:-//Oak Tree Golf Club - ECPv6.15.18//NONSGML v1.0//EN
CALSCALE:GREGORIAN
METHOD:PUBLISH
X-ORIGINAL-URL:https://www.oaktreeclub.com
X-WR-CALDESC:Events for Oak Tree Golf Club
REFRESH-INTERVAL;VALUE=DURATION:PT1H
X-Robots-Tag:noindex
X-PUBLISHED-TTL:PT1H
BEGIN:VTIMEZONE
TZID:UTC
BEGIN:STANDARD
TZOFFSETFROM:+0000
TZOFFSETTO:+0000
TZNAME:UTC
DTSTART:20250101T000000
END:STANDARD
END:VTIMEZONE
BEGIN:VEVENT
DTSTART;TZID=UTC:20260813T090000
DTEND;TZID=UTC:20260813T090000
DTSTAMP:20260423T083002
CREATED:20260330T214128Z
LAST-MODIFIED:20260330T214130Z
UID:10000006-1786611600-1786611600@www.oaktreeclub.com
SUMMARY:Lexington Invitational
DESCRIPTION:9:00 am Shotgun Start
URL:https://www.oaktreeclub.com/event-calendar/lexington-invitational/
END:VEVENT
BEGIN:VEVENT
DTSTART;TZID=UTC:20260813T163000
DTEND;TZID=UTC:20260813T173000
DTSTAMP:20260423T083002
CREATED:20260411T115120Z
LAST-MODIFIED:20260411T115124Z
UID:10000157-1786638600-1786642200@www.oaktreeclub.com
SUMMARY:Caddyshack League
DESCRIPTION:
URL:https://www.oaktreeclub.com/event-calendar/caddyshack-league/2026-08-13/
END:VEVENT
END:VCALENDAR